BEGIN:VCALENDAR
VERSION:2.0
PRODID:-//Montanay - ECPv6.15.20//NONSGML v1.0//EN
CALSCALE:GREGORIAN
METHOD:PUBLISH
X-WR-CALNAME:Montanay
X-ORIGINAL-URL:https://www.commune-montanay.fr
X-WR-CALDESC:Évènements pour Montanay
REFRESH-INTERVAL;VALUE=DURATION:PT1H
X-Robots-Tag:noindex
X-PUBLISHED-TTL:PT1H
BEGIN:VTIMEZONE
TZID:Europe/Paris
BEGIN:DAYLIGHT
TZOFFSETFROM:+0100
TZOFFSETTO:+0200
TZNAME:CEST
DTSTART:20250330T010000
END:DAYLIGHT
BEGIN:STANDARD
TZOFFSETFROM:+0200
TZOFFSETTO:+0100
TZNAME:CET
DTSTART:20251026T010000
END:STANDARD
BEGIN:DAYLIGHT
TZOFFSETFROM:+0100
TZOFFSETTO:+0200
TZNAME:CEST
DTSTART:20260329T010000
END:DAYLIGHT
BEGIN:STANDARD
TZOFFSETFROM:+0200
TZOFFSETTO:+0100
TZNAME:CET
DTSTART:20261025T010000
END:STANDARD
BEGIN:DAYLIGHT
TZOFFSETFROM:+0100
TZOFFSETTO:+0200
TZNAME:CEST
DTSTART:20270328T010000
END:DAYLIGHT
BEGIN:STANDARD
TZOFFSETFROM:+0200
TZOFFSETTO:+0100
TZNAME:CET
DTSTART:20271031T010000
END:STANDARD
END:VTIMEZONE
BEGIN:VEVENT
DTSTART;TZID=Europe/Paris:20260425T080000
DTEND;TZID=Europe/Paris:20260425T163000
DTSTAMP:20260419T224635
CREATED:20260329T071138Z
LAST-MODIFIED:20260329T071329Z
UID:13388-1777104000-1777134600@www.commune-montanay.fr
SUMMARY:Vente des brioches des classes en 6
DESCRIPTION:
URL:https://www.commune-montanay.fr/evenement/vente-des-brioches-des-classes-en-6/
LOCATION:Place de la Poype
ATTACH;FMTTYPE=image/jpeg:https://www.commune-montanay.fr/wp-content/uploads/2026/03/VENTE-BRIOCHES-CLASSES-6.jpeg
ORGANIZER;CN="Classards":MAILTO:lesclassesen5montanay@gmail.com
END:VEVENT
BEGIN:VEVENT
DTSTART;TZID=Europe/Paris:20260425T093000
DTEND;TZID=Europe/Paris:20260425T113000
DTSTAMP:20260419T224635
CREATED:20260326T151219Z
LAST-MODIFIED:20260326T151219Z
UID:13356-1777109400-1777116600@www.commune-montanay.fr
SUMMARY:Faites de la propreté
DESCRIPTION:Sensibiliser au problème des déchets urbains et au tri\, est l’objectif de la « Faites de la propreté » que nous organisons chaque année avec les services de la Métropole. Montanois et Montanoises se mobilisent pour le maintien de la qualité de notre lieu de vie. Les enfants des écoles et nos associations sont également engagés dans cette démarche. Rendez-vous samedi 25 avril à 9h30 Place de la Poype\nVenez avec vos gants et un gilet de signalisation\, nous fournissons les pinces et les sacs. Des ambassadeurs du tri seront présents pour des animations ludiques et pour répondre à toutes vos questions.\nNous aurons également un stand d’information sur le frelon asiatique\, présent pendant l’été et qui fait beaucoup de dégâts notamment chez les abeilles.\nA l’issue du ramassage nous ferons le bilan et nous récompenserons par la coupe du meilleur « nettoyeur de la nature » la classe et l’association ayant réuni le plus\nde personnes. Cette coupe est actuellement détenue respectivement par la classe de CM1/ CM2 de Mmes CARRAS et NICOL\, et par Move and Smile Country.\nNous terminerons cette matinée conviviale autour d’un verre.\nNous vous attendons nombreux !
URL:https://www.commune-montanay.fr/evenement/faites-de-la-proprete-3/
LOCATION:Place de la Poype
ATTACH;FMTTYPE=image/png:https://www.commune-montanay.fr/wp-content/uploads/2023/03/Capture-decran-2023-03-03-220352.png
END:VEVENT
BEGIN:VEVENT
DTSTART;TZID=Europe/Paris:20260426T090000
DTEND;TZID=Europe/Paris:20260426T170000
DTSTAMP:20260419T224635
CREATED:20260326T152404Z
LAST-MODIFIED:20260326T152404Z
UID:13358-1777194000-1777222800@www.commune-montanay.fr
SUMMARY:Vide-grenier
DESCRIPTION:Pour sa 30ème édition\, le vide-grenier de Montanay se dépoussière : surprises pour les enfants et lieux de convivialité : la journée a été repensée pour en profiter au mieux. Parlez-en à vos amis\, cette année\, l’entrée est gratuite pour tous ! \nFlâneurs ou chineurs\, nous vous attendons au Foyer Rural entre 9h et 17h. Restauration et buvette seront disponibles sur place. \nSi vous souhaitez vider votre grenier ou vos placards\, réservez vite les dernières places disponibles sur HelloAsso. \nEt bien sûr n’oubliez pas vos bonnes résolutions en venant nous aider le jour J : une heure\, une matinée\, ou plus si affinité\, nous allons avoir besoin de vous ! Le planning arrive\, surveillez vos boîtes mails !
URL:https://www.commune-montanay.fr/evenement/vide-grenier/
LOCATION:Foyer rural\, rue des maures\, montanay\, 69250\, France
ATTACH;FMTTYPE=image/jpeg:https://www.commune-montanay.fr/wp-content/uploads/2022/03/amis-de-lecole.jpg
END:VEVENT
BEGIN:VEVENT
DTSTART;TZID=Europe/Paris:20260430T203000
DTEND;TZID=Europe/Paris:20260430T223000
DTSTAMP:20260419T224635
CREATED:20260418T072715Z
LAST-MODIFIED:20260418T072715Z
UID:13482-1777581000-1777588200@www.commune-montanay.fr
SUMMARY:Conseil municipal
DESCRIPTION:
URL:https://www.commune-montanay.fr/evenement/conseil-municipal-14/
LOCATION:salle du conseil\, 116 rue centrale\, montanay\, 69250\, France
ATTACH;FMTTYPE=image/jpeg:https://www.commune-montanay.fr/wp-content/uploads/2022/02/P1150588.jpg
END:VEVENT
BEGIN:VEVENT
DTSTART;VALUE=DATE:20260522
DTEND;VALUE=DATE:20260531
DTSTAMP:20260419T224635
CREATED:20260306T085603Z
LAST-MODIFIED:20260418T074613Z
UID:13146-1779408000-1780185599@www.commune-montanay.fr
SUMMARY:festival santé
DESCRIPTION:
URL:https://www.commune-montanay.fr/evenement/festival-sante-2/
ATTACH;FMTTYPE=image/png:https://www.commune-montanay.fr/wp-content/uploads/2026/03/festival-sante.png
END:VEVENT
BEGIN:VEVENT
DTSTART;TZID=Europe/Paris:20260529T193000
DTEND;TZID=Europe/Paris:20260529T233000
DTSTAMP:20260419T224635
CREATED:20260418T075207Z
LAST-MODIFIED:20260418T075300Z
UID:13490-1780083000-1780097400@www.commune-montanay.fr
SUMMARY:Soirée festive - Montanay GR
DESCRIPTION:
URL:https://www.commune-montanay.fr/evenement/soiree-festive/
LOCATION:Foyer rural\, rue des maures\, montanay\, 69250\, France
ATTACH;FMTTYPE=image/png:https://www.commune-montanay.fr/wp-content/uploads/2026/04/Capture-decran-2026-04-18-094940.png
END:VEVENT
BEGIN:VEVENT
DTSTART;TZID=Europe/Paris:20260604T203000
DTEND;TZID=Europe/Paris:20260604T223000
DTSTAMP:20260419T224635
CREATED:20260418T072832Z
LAST-MODIFIED:20260418T072832Z
UID:13484-1780605000-1780612200@www.commune-montanay.fr
SUMMARY:Conseil municipal
DESCRIPTION:
URL:https://www.commune-montanay.fr/evenement/conseil-municipal-15/
LOCATION:salle du conseil\, 116 rue centrale\, montanay\, 69250\, France
ATTACH;FMTTYPE=image/jpeg:https://www.commune-montanay.fr/wp-content/uploads/2022/02/P1150588.jpg
END:VEVENT
BEGIN:VEVENT
DTSTART;TZID=Europe/Paris:20260605T203000
DTEND;TZID=Europe/Paris:20260606T190000
DTSTAMP:20260419T224635
CREATED:20260418T081016Z
LAST-MODIFIED:20260418T081016Z
UID:13494-1780691400-1780772400@www.commune-montanay.fr
SUMMARY:Concert des 30 ans - La Montadour
DESCRIPTION:« 30 ans La Montadour » \nC’est avec beaucoup de plaisir que les 69 choristes\, toujours sous la direction de Philippe Torossian\, sont heureux de vous annoncer \n2 grands concerts en l’Église de Montanay : \nVendredi 5 juin  20 h 30    et    Samedi 6 juin 19 h 00 \nUn ensemble de 11 musiciens professionnels accompagnera le chœur pour faire résonner Vivaldi\,  Mozart\, Gounod\, Rheinberger… \nLa billetterie sera ouverte début Avril\, mais réservez vous votre soirée au choix et merci d’en parler sur Montanay.  Ça va être la fête\, qu’on se le dise !(l’entrée 20 €\, pour moins de 15 ans 10 €). \nNous vous attendons nombreux pour partager ensemble cet anniversaire exceptionnel.  \nInformations complémentaires sur notre site www.lamontadour.fr
URL:https://www.commune-montanay.fr/evenement/concert-des-30-ans-la-montadour/
LOCATION:église de Montanay\, 41 place de l'église\, montanay\, 69250\, France
ATTACH;FMTTYPE=image/png:https://www.commune-montanay.fr/wp-content/uploads/2026/04/Capture-decran-2026-04-18-100953.png
END:VEVENT
BEGIN:VEVENT
DTSTART;TZID=Europe/Paris:20260606T100000
DTEND;TZID=Europe/Paris:20260606T170000
DTSTAMP:20260419T224635
CREATED:20260413T083149Z
LAST-MODIFIED:20260413T083149Z
UID:13457-1780740000-1780765200@www.commune-montanay.fr
SUMMARY:JOURNÉE PORTES OUVERTES - caserne des pompiers Genay/Neuville
DESCRIPTION:
URL:https://www.commune-montanay.fr/evenement/journee-portes-ouvertes-caserne-des-pompiers-genay-neuville/
ATTACH;FMTTYPE=application/pdf:https://www.commune-montanay.fr/wp-content/uploads/2026/04/2026-06-06_JPO-Genay-Neuville.pdf
END:VEVENT
BEGIN:VEVENT
DTSTART;TZID=Europe/Paris:20260613T203000
DTEND;TZID=Europe/Paris:20260613T230000
DTSTAMP:20260419T224635
CREATED:20260418T081235Z
LAST-MODIFIED:20260418T081235Z
UID:13497-1781382600-1781391600@www.commune-montanay.fr
SUMMARY:Concert des qui-song-t-elles
DESCRIPTION:
URL:https://www.commune-montanay.fr/evenement/concert-des-qui-song-t-elles/
LOCATION:Foyer rural\, rue des maures\, montanay\, 69250\, France
ATTACH;FMTTYPE=application/pdf:https://www.commune-montanay.fr/wp-content/uploads/2026/04/Cest-une-fille-et-nous-A5-italienne.pdf
END:VEVENT
BEGIN:VEVENT
DTSTART;TZID=Europe/Paris:20260702T203000
DTEND;TZID=Europe/Paris:20260702T223000
DTSTAMP:20260419T224635
CREATED:20260418T072939Z
LAST-MODIFIED:20260418T072939Z
UID:13486-1783024200-1783031400@www.commune-montanay.fr
SUMMARY:Conseil municipal
DESCRIPTION:
URL:https://www.commune-montanay.fr/evenement/conseil-municipal-16/
LOCATION:salle du conseil\, 116 rue centrale\, montanay\, 69250\, France
ATTACH;FMTTYPE=image/jpeg:https://www.commune-montanay.fr/wp-content/uploads/2022/02/P1150588.jpg
END:VEVENT
BEGIN:VEVENT
DTSTART;TZID=Europe/Paris:20260924T203000
DTEND;TZID=Europe/Paris:20260924T223000
DTSTAMP:20260419T224635
CREATED:20260418T073042Z
LAST-MODIFIED:20260418T073042Z
UID:13488-1790281800-1790289000@www.commune-montanay.fr
SUMMARY:Conseil municipal
DESCRIPTION:
URL:https://www.commune-montanay.fr/evenement/conseil-municipal-17/
LOCATION:salle du conseil\, 116 rue centrale\, montanay\, 69250\, France
ATTACH;FMTTYPE=image/jpeg:https://www.commune-montanay.fr/wp-content/uploads/2022/02/P1150588.jpg
END:VEVENT
END:VCALENDAR