BEGIN:VCALENDAR
VERSION:2.0
PRODID:-//Montanay - ECPv6.15.20//NONSGML v1.0//EN
CALSCALE:GREGORIAN
METHOD:PUBLISH
X-WR-CALNAME:Montanay
X-ORIGINAL-URL:https://www.commune-montanay.fr
X-WR-CALDESC:Évènements pour Montanay
REFRESH-INTERVAL;VALUE=DURATION:PT1H
X-Robots-Tag:noindex
X-PUBLISHED-TTL:PT1H
BEGIN:VTIMEZONE
TZID:Europe/Paris
BEGIN:DAYLIGHT
TZOFFSETFROM:+0100
TZOFFSETTO:+0200
TZNAME:CEST
DTSTART:20240331T010000
END:DAYLIGHT
BEGIN:STANDARD
TZOFFSETFROM:+0200
TZOFFSETTO:+0100
TZNAME:CET
DTSTART:20241027T010000
END:STANDARD
BEGIN:DAYLIGHT
TZOFFSETFROM:+0100
TZOFFSETTO:+0200
TZNAME:CEST
DTSTART:20250330T010000
END:DAYLIGHT
BEGIN:STANDARD
TZOFFSETFROM:+0200
TZOFFSETTO:+0100
TZNAME:CET
DTSTART:20251026T010000
END:STANDARD
BEGIN:DAYLIGHT
TZOFFSETFROM:+0100
TZOFFSETTO:+0200
TZNAME:CEST
DTSTART:20260329T010000
END:DAYLIGHT
BEGIN:STANDARD
TZOFFSETFROM:+0200
TZOFFSETTO:+0100
TZNAME:CET
DTSTART:20261025T010000
END:STANDARD
BEGIN:DAYLIGHT
TZOFFSETFROM:+0100
TZOFFSETTO:+0200
TZNAME:CEST
DTSTART:20270328T010000
END:DAYLIGHT
BEGIN:STANDARD
TZOFFSETFROM:+0200
TZOFFSETTO:+0100
TZNAME:CET
DTSTART:20271031T010000
END:STANDARD
END:VTIMEZONE
BEGIN:VEVENT
DTSTART;TZID=Europe/Paris:20260411T140000
DTEND;TZID=Europe/Paris:20260411T170000
DTSTAMP:20260420T002923
CREATED:20260317T110413Z
LAST-MODIFIED:20260317T110413Z
UID:13203-1775916000-1775926800@www.commune-montanay.fr
SUMMARY:Balade découverte - Vallon des Torrières
DESCRIPTION:L’association « Des Espèces Parmi Lyon » propose une nouvelle animation le samedi 11 avril 2026 à 14h. \nPartez explorer le vallon des Torrières et découvrez la richesse des plantes et des insectes qui y vivent\, tout en contribuant à l’inventaire des papillons de jour des prairies du vallon. \nRendez-vous sur le parking de la rue du Vieux Château (Montanay). \nInscription gratuite sur le lien ci-dessous :\nhttps://www.eventbrite.com/e/billets-les-plantes-et-insectes-au-gre-du-vallon-des-torrieres-1983860428947?aff=oddtdtcreator&keep_tld=true
URL:https://www.commune-montanay.fr/evenement/balade-decouverte-vallon-des-torrieres/
ATTACH;FMTTYPE=image/png:https://www.commune-montanay.fr/wp-content/uploads/2026/03/Gemini_Generated_Image_sdf1l7sdf1l7sdf1.png
END:VEVENT
BEGIN:VEVENT
DTSTART;TZID=Europe/Paris:20260329T150000
DTEND;TZID=Europe/Paris:20260329T180000
DTSTAMP:20260420T002923
CREATED:20260318T073345Z
LAST-MODIFIED:20260318T073345Z
UID:13228-1774796400-1774807200@www.commune-montanay.fr
SUMMARY:Projection de film proposé par le CCAS
DESCRIPTION:« L’abeille vagabonde »\nDIMANCHE 29 MARS 2026\n15H00\nFOYER RURAL\, 119 RUE DES MAURES
URL:https://www.commune-montanay.fr/evenement/projection-de-film-propose-par-le-ccas-2/
LOCATION:Foyer rural\, rue des maures\, montanay\, 69250\, France
ATTACH;FMTTYPE=application/pdf:https://www.commune-montanay.fr/wp-content/uploads/2026/03/FimlCCAS2026.pdf
END:VEVENT
BEGIN:VEVENT
DTSTART;TZID=Europe/Paris:20260329T090000
DTEND;TZID=Europe/Paris:20260329T173000
DTSTAMP:20260420T002923
CREATED:20260212T102632Z
LAST-MODIFIED:20260329T071648Z
UID:13050-1774774800-1774805400@www.commune-montanay.fr
SUMMARY:AMELIE LA VIE - Randonnée pédestre
DESCRIPTION:Nous sommes heureux de vous annoncer que notre randonnée pédestre annuelle aura lieu le dimanche 29 mars 2026. \nLes départs s’étaleront de 9 h jusqu’à 15 h\, et l’association sera sur place jusqu’à 17h30. \nNous serons ravis de vous retrouver à nouveau pour cette journée de marche ! \nLe départ se fera depuis Montanay\, place de la Poype. \nNous proposerons trois circuits adaptés à tous les marcheurs : • Relax : 5 km • Fun : 10 km • Sportif : 17 km \nNous espérons que vous apprécierez la découverte des nouveaux sentiers que nous avons préparés pour vous\, avec comme l’an passé\, un relais aux Colibris (notre habitat partagé) pour les plus courageux d’entre vous. \nComme chaque année\, nous proposerons une vente de cakes sur place : portion individuelle ou familiale\, à emporter ou à déguster sur place\, avec de nombreux parfums disponibles\, il y en aura pour tous les goûts. \nVous pourrez également commander en ligne des cakes et réserver votre place pour participer à la randonnée. \nToutes les infos et les possibilités de réservation seront bientôt sur notre site \nhttp://amelielavie.com – Contact : 06 61 75 57 28
URL:https://www.commune-montanay.fr/evenement/randonnee-pedestre-2/
ATTACH;FMTTYPE=image/jpeg:https://www.commune-montanay.fr/wp-content/uploads/2026/02/istockphoto-1509916344-612x612-1.jpg
END:VEVENT
BEGIN:VEVENT
DTSTART;TZID=Europe/Paris:20260326T160000
DTEND;TZID=Europe/Paris:20260326T170000
DTSTAMP:20260420T002923
CREATED:20251202T155608Z
LAST-MODIFIED:20251202T155608Z
UID:12763-1774540800-1774544400@www.commune-montanay.fr
SUMMARY:Permanence juridique
DESCRIPTION:https://www.commune-montanay.fr/vivre-a-montanay/permanence-juridique/  \n 
URL:https://www.commune-montanay.fr/evenement/permanence-juridique-3/
LOCATION:Mairie\, 116 rue centrale\, Montanay\, 69250
ATTACH;FMTTYPE=image/jpeg:https://www.commune-montanay.fr/wp-content/uploads/2023/09/istockphoto-919524862-612x612-1.jpg
END:VEVENT
BEGIN:VEVENT
DTSTART;VALUE=DATE:20260319
DTEND;VALUE=DATE:20260320
DTSTAMP:20260420T002923
CREATED:20260212T102821Z
LAST-MODIFIED:20260212T102821Z
UID:13053-1773878400-1773964799@www.commune-montanay.fr
SUMMARY:Exposition " la grande lessive"
DESCRIPTION:
URL:https://www.commune-montanay.fr/evenement/exposition-la-grande-lessive/
LOCATION:esplanade des écoles\, 142 rue centrale\, montanay\, 69250
ATTACH;FMTTYPE=image/jpeg:https://www.commune-montanay.fr/wp-content/uploads/2022/03/petite-enfance.jpg
END:VEVENT
BEGIN:VEVENT
DTSTART;TZID=Europe/Paris:20260315T080000
DTEND;TZID=Europe/Paris:20260315T180000
DTSTAMP:20260420T002923
CREATED:20251202T102804Z
LAST-MODIFIED:20251202T103151Z
UID:12716-1773561600-1773597600@www.commune-montanay.fr
SUMMARY:Élections municipales et métropolitaines - 1er tour
DESCRIPTION:Bureaux 1\, 2 & 3: \nFoyer Rural \n119 rue des Maures 69250 MONTANAY \nhttps://www.commune-montanay.fr/vie-municipale/demarches-administratives/inscription-sur-les-listes-electorales/ 
URL:https://www.commune-montanay.fr/evenement/elections-municipales-et-metropolitaines-1er-tour/
LOCATION:Foyer rural\, rue des maures\, montanay\, 69250\, France
ATTACH;FMTTYPE=image/jpeg:https://www.commune-montanay.fr/wp-content/uploads/2025/12/istockphoto-1321519874-612x612-1.jpg
END:VEVENT
BEGIN:VEVENT
DTSTART;TZID=Europe/Paris:20260308T103000
DTEND;TZID=Europe/Paris:20260308T120000
DTSTAMP:20260420T002923
CREATED:20260122T095307Z
LAST-MODIFIED:20260215T204356Z
UID:12955-1772965800-1772971200@www.commune-montanay.fr
SUMMARY:Carnaval - départ 10h30
DESCRIPTION:A partir de 9h45: maquillage des enfants au foyer rural \n10h30: départ du défilé avec la Batucada Copa Montana \n11h30: Mr Carnaval sera brûlé \nApéritif offert par les A2L et la Copa Montana
URL:https://www.commune-montanay.fr/evenement/carnaval-2/
LOCATION:Foyer rural\, rue des maures\, montanay\, 69250\, France
ATTACH;FMTTYPE=application/pdf:https://www.commune-montanay.fr/wp-content/uploads/2026/01/Affiche-Carnaval-2026.pdf
END:VEVENT
BEGIN:VEVENT
DTSTART;TZID=Europe/Paris:20260307T160000
DTEND;TZID=Europe/Paris:20260308T235900
DTSTAMP:20260420T002923
CREATED:20260115T141531Z
LAST-MODIFIED:20260307T115758Z
UID:12912-1772899200-1773014340@www.commune-montanay.fr
SUMMARY:Anniversaire de l'AMM - 16h00
DESCRIPTION:2026 est une année exceptionnelle pour l’Association Musicale de Montanay qui fête:\n🥳 ses 40 ans \,\n🥁 les 15 ans de la batucada COPA MONTANA\,\nlors d’un grand week-end festif les samedi 7 et dimanche 8 mars ! \n🎶Concert et soirée d’anniversaire des 40 ans de l’Association Musicale de Montanay : \n📆  Samedi 7 mars à partir de 16h\n📍 Foyer Rural de Montanay\n⏰ Ouverture des portes à 16h \nUn programme musical varié : \n🎶Entrée libre pour les concerts \n🎟️Tarif pour le repas : 20 € \n👉Réservation pour le repas: https://www.helloasso.com/associations/association-musicale-montanay/evenements/amm-fete-ses-40-ans \nLes réservations sont ouvertes jusqu’au 28 Février. Pas de vente sur place\, uniquement sur réservation. \nIl est également possible de réserver en flashant le QR code présent sur l’affiche \n🎂🥁 COPA MONTANA fête ses 15 ans !\nA l’occasion du Carnaval des Amis de l’Ecole\, rassemblement de Batucadas du Val de Saône accompagné des enfants du village \n📅 Dimanche 8 mars à partir de 10h\n📍 Foyer Rural de Montanay
URL:https://www.commune-montanay.fr/evenement/anniversaire-amm/
LOCATION:Foyer rural\, rue des maures\, montanay\, 69250\, France
ATTACH;FMTTYPE=image/jpeg:https://www.commune-montanay.fr/wp-content/uploads/2026/01/Diapositive2.jpg
END:VEVENT
BEGIN:VEVENT
DTSTART;TZID=Europe/Paris:20260305T200000
DTEND;TZID=Europe/Paris:20260305T220000
DTSTAMP:20260420T002923
CREATED:20251202T104203Z
LAST-MODIFIED:20251202T104203Z
UID:12729-1772740800-1772748000@www.commune-montanay.fr
SUMMARY:Conseil municipal
DESCRIPTION:
URL:https://www.commune-montanay.fr/evenement/conseil-municipal-13/
LOCATION:salle du conseil\, 116 rue centrale\, montanay\, 69250\, France
ATTACH;FMTTYPE=image/jpeg:https://www.commune-montanay.fr/wp-content/uploads/2022/02/P1150588.jpg
END:VEVENT
BEGIN:VEVENT
DTSTART;TZID=Europe/Paris:20260301T100000
DTEND;TZID=Europe/Paris:20260301T130000
DTSTAMP:20260420T002923
CREATED:20260215T203442Z
LAST-MODIFIED:20260215T203442Z
UID:13058-1772359200-1772370000@www.commune-montanay.fr
SUMMARY:Vente de boudin ou andouillettes USM FOOT
DESCRIPTION:USM FOOT \nOrganise une vente à emporter de boudin ou andouillettes \nsur la place de Poype \nDimanche 1er mars matin
URL:https://www.commune-montanay.fr/evenement/vente-de-boudin-ou-andouillettes-usm-foot/
ATTACH;FMTTYPE=image/webp:https://www.commune-montanay.fr/wp-content/uploads/2022/03/us-montanay-football.webp
END:VEVENT
BEGIN:VEVENT
DTSTART;TZID=Europe/Paris:20260226T160000
DTEND;TZID=Europe/Paris:20260226T170000
DTSTAMP:20260420T002923
CREATED:20251202T155506Z
LAST-MODIFIED:20251202T155506Z
UID:12761-1772121600-1772125200@www.commune-montanay.fr
SUMMARY:Permanence juridique
DESCRIPTION:https://www.commune-montanay.fr/vivre-a-montanay/permanence-juridique/  \n 
URL:https://www.commune-montanay.fr/evenement/permanence-juridique-2/
LOCATION:Mairie\, 116 rue centrale\, Montanay\, 69250
ATTACH;FMTTYPE=image/jpeg:https://www.commune-montanay.fr/wp-content/uploads/2023/09/istockphoto-919524862-612x612-1.jpg
END:VEVENT
BEGIN:VEVENT
DTSTART;TZID=Europe/Paris:20260223T150000
DTEND;TZID=Europe/Paris:20260223T190000
DTSTAMP:20260420T002923
CREATED:20260114T085319Z
LAST-MODIFIED:20260114T085319Z
UID:12899-1771858800-1771873200@www.commune-montanay.fr
SUMMARY:Don de sang
DESCRIPTION:
URL:https://www.commune-montanay.fr/evenement/don-de-sang-8/
ATTACH;FMTTYPE=image/jpeg:https://www.commune-montanay.fr/wp-content/uploads/2026/01/affiche-23-fevrier-Fontaines-en-JPEG.jpg
END:VEVENT
BEGIN:VEVENT
DTSTART;TZID=Europe/Paris:20260218T100000
DTEND;TZID=Europe/Paris:20260218T120000
DTSTAMP:20260420T002923
CREATED:20260205T111313Z
LAST-MODIFIED:20260205T111313Z
UID:13000-1771408800-1771416000@www.commune-montanay.fr
SUMMARY:Atelier créatif - Médiathèque le Pisé
DESCRIPTION:Le réseau des médiathèques du Val de Saône vous invite à découvrir l’art de Marion Cluzel à travers un atelier sur « L’eau sous toutes ses formes ». Les participants créeront une œuvre collective avec dessin\, aquarelle et papier découpé.
URL:https://www.commune-montanay.fr/evenement/atelier-creatif-mediatheque-le-pise/
LOCATION:médiathèque Le Pisé\, 613 rue Centrale\, Montanay\, 69250\, France
ATTACH;FMTTYPE=image/png:https://www.commune-montanay.fr/wp-content/uploads/2026/02/A-leau-Une-aventure-artistique-collective-avec-Marion-Cluzel.png
END:VEVENT
BEGIN:VEVENT
DTSTART;TZID=Europe/Paris:20260205T203000
DTEND;TZID=Europe/Paris:20260205T220000
DTSTAMP:20260420T002923
CREATED:20250901T080941Z
LAST-MODIFIED:20250901T080941Z
UID:12354-1770323400-1770328800@www.commune-montanay.fr
SUMMARY:Conseil municipal
DESCRIPTION:
URL:https://www.commune-montanay.fr/evenement/conseil-municipal-12/
LOCATION:salle du conseil\, 116 rue centrale\, montanay\, 69250\, France
ATTACH;FMTTYPE=image/jpeg:https://www.commune-montanay.fr/wp-content/uploads/2022/02/P1150588.jpg
END:VEVENT
BEGIN:VEVENT
DTSTART;TZID=Europe/Paris:20260201T083000
DTEND;TZID=Europe/Paris:20260201T120000
DTSTAMP:20260420T002923
CREATED:20260128T095059Z
LAST-MODIFIED:20260128T095059Z
UID:12968-1769934600-1769947200@www.commune-montanay.fr
SUMMARY:trail givré
DESCRIPTION:salle des sports de Montanay \n9 km : départ 9h00 \n25km: départ 9h15 \nwww.trailgivre.com
URL:https://www.commune-montanay.fr/evenement/trail-givre-4/
ATTACH;FMTTYPE=image/jpeg:https://www.commune-montanay.fr/wp-content/uploads/2024/01/istockphoto-92125395-612x612-1.jpg
END:VEVENT
BEGIN:VEVENT
DTSTART;TZID=Europe/Paris:20260131T133000
DTEND;TZID=Europe/Paris:20260131T233000
DTSTAMP:20260420T002923
CREATED:20251202T112220Z
LAST-MODIFIED:20251202T112406Z
UID:12736-1769866200-1769902200@www.commune-montanay.fr
SUMMARY:Coinche et loto - USM Foot
DESCRIPTION:L’US Montanay Foot vous donne rendez-vous au foyer rural le samedi 31 janvier pour une journée placée sous le signe de la convivialité ! \nAu programme : dès 13h30 notre traditionnelle coinche pour bien commencer l’après-midi\, suivie à 20h00 de notre grand loto avec de nombreux lots à gagner. \nBuvette sur place pour se rafraîchir et partager un bon moment entre amis et supporters ! \nOn vous attend nombreux !
URL:https://www.commune-montanay.fr/evenement/coinche-et-loto-usm-foot/
END:VEVENT
BEGIN:VEVENT
DTSTART;VALUE=DATE:20260126
DTEND;VALUE=DATE:20260207
DTSTAMP:20260420T002923
CREATED:20251202T113255Z
LAST-MODIFIED:20251202T125126Z
UID:12739-1769385600-1770422399@www.commune-montanay.fr
SUMMARY:Inscription école élémentaire
DESCRIPTION:Les inscriptions (nouvelle arrivée + entrée en CP) à l’école élémentaire se dérouleront en mairie du 26 janvier au 6 février 2026. \nLes inscriptions se feront uniquement sur rendez-vous. Le formulaire en ligne pour accéder à la prise de rendez-vous est accessible sur notre site internet : www.commune-montanay.fr \nPour toutes questions ou en cas de difficulté pour la prise de rendez-vous\, vous pouvez vous adresser au service enfance\, par mail enfance@commune-montanay.fr ou par téléphone au 04 78 91 24 55.
URL:https://www.commune-montanay.fr/evenement/inscription-ecole-elementaire/
LOCATION:Mairie\, 116 rue centrale\, Montanay\, 69250
ATTACH;FMTTYPE=image/png:https://www.commune-montanay.fr/wp-content/uploads/2025/12/inscription-sco.png
END:VEVENT
BEGIN:VEVENT
DTSTART;TZID=Europe/Paris:20260124T203000
DTEND;TZID=Europe/Paris:20260124T230000
DTSTAMP:20260420T002923
CREATED:20251202T111900Z
LAST-MODIFIED:20251202T111900Z
UID:12735-1769286600-1769295600@www.commune-montanay.fr
SUMMARY:Café théâtre - La Montadour
DESCRIPTION:18 euros en pré-vente sur Billetweb\,  20 euros sur place \nwww.lamontadour.fr
URL:https://www.commune-montanay.fr/evenement/cafe-theatre-la-montadour/
LOCATION:Foyer rural\, rue des maures\, montanay\, 69250\, France
END:VEVENT
BEGIN:VEVENT
DTSTART;TZID=Europe/Paris:20260122T190000
DTEND;TZID=Europe/Paris:20260122T210000
DTSTAMP:20260420T002923
CREATED:20260116T135718Z
LAST-MODIFIED:20260116T135718Z
UID:12919-1769108400-1769115600@www.commune-montanay.fr
SUMMARY:conférence sur la santé mentale des jeunes
DESCRIPTION:conférence sur la santé mentale des jeunes animée par Bernard CONDIS\, psychologue clinicien\njeudi 22 Janvier 2026 à 19H\nau Cinéma Rex de NEUVILLE-SUR-SAÔNE
URL:https://www.commune-montanay.fr/evenement/conference-sur-la-sante-mentale-des-jeunes/
ATTACH;FMTTYPE=application/pdf:https://www.commune-montanay.fr/wp-content/uploads/2026/01/FLYER-CONFERENCE-22-01-2026-1.pdf
END:VEVENT
BEGIN:VEVENT
DTSTART;TZID=Europe/Paris:20260117T100000
DTEND;TZID=Europe/Paris:20260117T120000
DTSTAMP:20260420T002923
CREATED:20260106T091219Z
LAST-MODIFIED:20260106T091219Z
UID:12855-1768644000-1768651200@www.commune-montanay.fr
SUMMARY:Pause lecture
DESCRIPTION:samedi 17 janvier à 10h\nsalle pluriculturelle – médiathèque Le Pisé\n613 rue centrale
URL:https://www.commune-montanay.fr/evenement/pause-lecture-6/
LOCATION:Salle pluriculturelle – Médiathèque « Le Pisé »\, 613 rue Centrale\, Montanay\, 69250\, France
END:VEVENT
BEGIN:VEVENT
DTSTART;TZID=Europe/Paris:20260115T160000
DTEND;TZID=Europe/Paris:20260115T170000
DTSTAMP:20260420T002923
CREATED:20251202T154903Z
LAST-MODIFIED:20251202T154903Z
UID:12759-1768492800-1768496400@www.commune-montanay.fr
SUMMARY:Permanence juridique
DESCRIPTION:https://www.commune-montanay.fr/vivre-a-montanay/permanence-juridique/ 
URL:https://www.commune-montanay.fr/evenement/permanence-juridique/
LOCATION:Mairie\, 116 rue centrale\, Montanay\, 69250
ATTACH;FMTTYPE=image/jpeg:https://www.commune-montanay.fr/wp-content/uploads/2023/09/istockphoto-919524862-612x612-1.jpg
END:VEVENT
BEGIN:VEVENT
DTSTART;TZID=Europe/Paris:20260114T200000
DTEND;TZID=Europe/Paris:20260114T220000
DTSTAMP:20260420T002923
CREATED:20251202T111007Z
LAST-MODIFIED:20251202T111007Z
UID:12733-1768420800-1768428000@www.commune-montanay.fr
SUMMARY:Galette des classes en 6
DESCRIPTION:Les Classes en 6 reviennent à Montanay en 2026 ! \nUne tradition festive\, conviviale et intergénérationnelle à ne pas manquer !\nÀ Montanay\, comme dans de nombreux villages alentours\, les « Classes » sont bien plus qu’une tradition : ce sont des moments de partage\, de rires et de souvenirs qui rassemblent toutes les générations autour d’une même année de naissance.\nEn 2026\, ce sont les Classes en 6 qui seront à l’honneur : les natifs de 1926\, 1936\, 1946\, 1956\, 1966\, 1976\, 1986\, 1996\, 2006\, 2016… et même les tout-petits de 2026 ! \nPourquoi participer aux Classes ?\n* Pour revivre ou découvrir une tradition locale pleine de bonne humeur\n* Pour rencontrer ses voisins\, créer du lien et partager des moments forts\n* Pour transmettre aux plus jeunes l’esprit festif et convivial du village \nRejoignez nous !\nVous êtes né(e) une année en 6 ? Contactez nous par mail à 6montanay@gmail.com ou envoyez nous un message WhatsApp au 07 76 73 42 98 (Virginie) \nOn vous attend nombreux ! \n  \nPremière date à retenir :\nMercredi 14 janvier 2026 dès 20h\nGalette des rois à la salle LNG\nPremière rencontre des classards ! N’hésitez pas à nous rejoindre\, c’est l’occasion parfaite pour faire connaissance. Aucune obligation\, juste le plaisir de partager un moment ensemble autour d’une galette.
URL:https://www.commune-montanay.fr/evenement/galette-des-classes-en-6/
LOCATION:Salle LNG
ATTACH;FMTTYPE=image/png:https://www.commune-montanay.fr/wp-content/uploads/2025/12/Capture-decran-2025-12-02-120505.png
END:VEVENT
BEGIN:VEVENT
DTSTART;TZID=Europe/Paris:20260112T190000
DTEND;TZID=Europe/Paris:20260112T210000
DTSTAMP:20260420T002923
CREATED:20260102T100826Z
LAST-MODIFIED:20260102T100826Z
UID:12840-1768244400-1768251600@www.commune-montanay.fr
SUMMARY:CONFÉRENCE INTERACTIVE COMMUNICATION GESTUELLE avec les tout petits
DESCRIPTION:Lundi 12 janvier 2026 19h-21h – Salon Campant – Espace Jean Vilar \nComment communiquer avec un bébé avant qu’il ne parle ?\nVenez découvrir la communication gestuelle et apprendre quelques signes à associer à la parole \nGRATUIT et ouvert à tous\, professionnels et parents \nPRÉINSCRIPTION : e.basset@mairie-neuvillesursaone.fr ou 06 45 52 84 68
URL:https://www.commune-montanay.fr/evenement/conference-interactive-communication-gestuelle-avec-les-tout-petits/
LOCATION:ESPACE JEAN VILAR PLACE CHARLES DE GAULLE NEUVILLE-SUR-SAÔNE
ATTACH;FMTTYPE=application/pdf:https://www.commune-montanay.fr/wp-content/uploads/2026/01/20260112-Conference-com-gestuelle.pdf
END:VEVENT
BEGIN:VEVENT
DTSTART;TZID=Europe/Paris:20260109T190000
DTEND;TZID=Europe/Paris:20260109T210000
DTSTAMP:20260420T002923
CREATED:20251202T104009Z
LAST-MODIFIED:20251202T104009Z
UID:12727-1767985200-1767992400@www.commune-montanay.fr
SUMMARY:Vœux du Maire
DESCRIPTION:
URL:https://www.commune-montanay.fr/evenement/voeux-du-maire-3/
LOCATION:Foyer rural\, rue des maures\, montanay\, 69250\, France
ATTACH;FMTTYPE=image/jpeg:https://www.commune-montanay.fr/wp-content/uploads/2023/11/istockphoto-1299906548-612x612-1.jpg
END:VEVENT
BEGIN:VEVENT
DTSTART;TZID=Europe/Paris:20260106T140000
DTEND;TZID=Europe/Paris:20260106T180000
DTSTAMP:20260420T002923
CREATED:20251202T110340Z
LAST-MODIFIED:20251202T110340Z
UID:12732-1767708000-1767722400@www.commune-montanay.fr
SUMMARY:Galette des rois - Les Marcheurs du Mardi
DESCRIPTION:
URL:https://www.commune-montanay.fr/evenement/galette-des-rois-les-marcheurs-du-mardi/
LOCATION:Foyer rural\, rue des maures\, montanay\, 69250\, France
ATTACH;FMTTYPE=image/png:https://www.commune-montanay.fr/wp-content/uploads/2022/03/Logo-marcheurs-du-mardi.png
END:VEVENT
BEGIN:VEVENT
DTSTART;VALUE=DATE:20260105
DTEND;VALUE=DATE:20260124
DTSTAMP:20260420T002923
CREATED:20251202T113124Z
LAST-MODIFIED:20251202T113150Z
UID:12738-1767571200-1769212799@www.commune-montanay.fr
SUMMARY:Inscription école maternelle
DESCRIPTION:Les inscriptions (nouvelle arrivée + entrée en petite section) à l’école maternelle se dérouleront en mairie du 5 au 23 janvier 2026. \nLes inscriptions se feront uniquement sur rendez-vous. Le formulaire en ligne pour accéder à la prise de rendez-vous est accessible sur notre site internet : www.commune-montanay.fr \nPour toutes questions ou en cas de difficulté pour la prise de rendez-vous\, vous pouvez vous adresser au service enfance\, par mail enfance@commune-montanay.fr ou par téléphone au 04 78 91 24 55.
URL:https://www.commune-montanay.fr/evenement/inscription-ecole-maternelle/
LOCATION:Mairie\, 116 rue centrale\, Montanay\, 69250
ATTACH;FMTTYPE=image/png:https://www.commune-montanay.fr/wp-content/uploads/2025/12/inscription-sco.png
END:VEVENT
BEGIN:VEVENT
DTSTART;TZID=Europe/Paris:20251219T180000
DTEND;TZID=Europe/Paris:20251219T210000
DTSTAMP:20260420T002923
CREATED:20251202T110124Z
LAST-MODIFIED:20251202T133419Z
UID:12731-1766167200-1766178000@www.commune-montanay.fr
SUMMARY:Gala d'hiver - Montanay GR
DESCRIPTION:préventes au tarif de 3 € : https://www.payasso.fr/montanay-gr/gala-2025
URL:https://www.commune-montanay.fr/evenement/gala-dhiver-montanay-gr/
LOCATION:Salle des sports
END:VEVENT
BEGIN:VEVENT
DTSTART;TZID=Europe/Paris:20251218T203000
DTEND;TZID=Europe/Paris:20251218T220000
DTSTAMP:20260420T002923
CREATED:20250901T080745Z
LAST-MODIFIED:20250901T080745Z
UID:12351-1766089800-1766095200@www.commune-montanay.fr
SUMMARY:Conseil municipal
DESCRIPTION:
URL:https://www.commune-montanay.fr/evenement/conseil-municipal-11/
LOCATION:salle du conseil\, 116 rue centrale\, montanay\, 69250\, France
ATTACH;FMTTYPE=image/jpeg:https://www.commune-montanay.fr/wp-content/uploads/2022/02/P1150588.jpg
END:VEVENT
BEGIN:VEVENT
DTSTART;TZID=Europe/Paris:20251218T160000
DTEND;TZID=Europe/Paris:20251218T170000
DTSTAMP:20260420T002923
CREATED:20250521T064641Z
LAST-MODIFIED:20250521T064641Z
UID:11864-1766073600-1766077200@www.commune-montanay.fr
SUMMARY:Permanence avocat
DESCRIPTION:
URL:https://www.commune-montanay.fr/evenement/permanence-avocat-9/
LOCATION:Mairie\, 116 rue centrale\, Montanay\, 69250
ATTACH;FMTTYPE=image/jpeg:https://www.commune-montanay.fr/wp-content/uploads/2023/09/istockphoto-919524862-612x612-1.jpg
END:VEVENT
BEGIN:VEVENT
DTSTART;TZID=Europe/Paris:20251217T150000
DTEND;TZID=Europe/Paris:20251217T190000
DTSTAMP:20260420T002923
CREATED:20251029T104828Z
LAST-MODIFIED:20251029T104828Z
UID:12579-1765983600-1765998000@www.commune-montanay.fr
SUMMARY:Don de Sang - Fontaines s/ Saône
DESCRIPTION:
URL:https://www.commune-montanay.fr/evenement/don-de-sang-fontaines-s-saone/
LOCATION:fontaines sur saone\, 34 rue pierre carbon\, fontaines sur saone\, France
END:VEVENT
END:VCALENDAR