BEGIN:VCALENDAR
VERSION:2.0
PRODID:-//Montanay - ECPv6.15.20//NONSGML v1.0//EN
CALSCALE:GREGORIAN
METHOD:PUBLISH
X-WR-CALNAME:Montanay
X-ORIGINAL-URL:https://www.commune-montanay.fr
X-WR-CALDESC:Évènements pour Montanay
REFRESH-INTERVAL;VALUE=DURATION:PT1H
X-Robots-Tag:noindex
X-PUBLISHED-TTL:PT1H
BEGIN:VTIMEZONE
TZID:Europe/Paris
BEGIN:DAYLIGHT
TZOFFSETFROM:+0100
TZOFFSETTO:+0200
TZNAME:CEST
DTSTART:20210328T010000
END:DAYLIGHT
BEGIN:STANDARD
TZOFFSETFROM:+0200
TZOFFSETTO:+0100
TZNAME:CET
DTSTART:20211031T010000
END:STANDARD
BEGIN:DAYLIGHT
TZOFFSETFROM:+0100
TZOFFSETTO:+0200
TZNAME:CEST
DTSTART:20220327T010000
END:DAYLIGHT
BEGIN:STANDARD
TZOFFSETFROM:+0200
TZOFFSETTO:+0100
TZNAME:CET
DTSTART:20221030T010000
END:STANDARD
BEGIN:DAYLIGHT
TZOFFSETFROM:+0100
TZOFFSETTO:+0200
TZNAME:CEST
DTSTART:20230326T010000
END:DAYLIGHT
BEGIN:STANDARD
TZOFFSETFROM:+0200
TZOFFSETTO:+0100
TZNAME:CET
DTSTART:20231029T010000
END:STANDARD
END:VTIMEZONE
BEGIN:VEVENT
DTSTART;VALUE=DATE:20220306
DTEND;VALUE=DATE:20220307
DTSTAMP:20260423T002348
CREATED:20220210T073941Z
LAST-MODIFIED:20220211T152356Z
UID:768-1646524800-1646611199@www.commune-montanay.fr
SUMMARY:CARNAVAL des Amis de l'école
DESCRIPTION:Départ 10H00 devant le Foyer Rural
URL:https://www.commune-montanay.fr/evenement/carnaval-des-a2l/
LOCATION:Foyer rural\, rue des maures\, montanay\, 69250\, France
CATEGORIES:Associatifs
END:VEVENT
BEGIN:VEVENT
DTSTART;VALUE=DATE:20220312
DTEND;VALUE=DATE:20220313
DTSTAMP:20260423T002348
CREATED:20220211T144600Z
LAST-MODIFIED:20220211T145637Z
UID:903-1647043200-1647129599@www.commune-montanay.fr
SUMMARY:Bal de Move and Smile Country - 19H00 -
DESCRIPTION:
URL:https://www.commune-montanay.fr/evenement/bal-de-move-and-smile-country-19h00-foyer-rural/
LOCATION:Foyer rural\, rue des maures\, montanay\, 69250\, France
CATEGORIES:Associatifs
ATTACH;FMTTYPE=image/jpeg:https://www.commune-montanay.fr/wp-content/uploads/2022/02/LOGO-Smile-Country-e1645189467278.jpg
END:VEVENT
BEGIN:VEVENT
DTSTART;VALUE=DATE:20220327
DTEND;VALUE=DATE:20220328
DTSTAMP:20260423T002348
CREATED:20220321T081007Z
LAST-MODIFIED:20220321T081007Z
UID:2720-1648339200-1648425599@www.commune-montanay.fr
SUMMARY:Randonnée Pédestre
DESCRIPTION:
URL:https://www.commune-montanay.fr/evenement/randonnee-pedestre/
CATEGORIES:Associatifs
END:VEVENT
END:VCALENDAR